BEGIN:VCALENDAR
VERSION:2.0
PRODID:-//eventon.com NONSGML v1.0//EN
CALSCALE:GREGORIAN
METHOD:PUBLISH
BEGIN:VEVENT
UID:69e749dcd7e1c
DTSTAMP:20260421T095644Z
DTSTART:20251123T090000Z
DTEND:20251123T160000Z
LOCATION:
SUMMARY:Snuffelmarkt Gelredome
DESCRIPTION:Snuffelmarkt Gelredome\nhttps://toy-hunter.nl/events/snuffelmar
 kt-gelredome-2/
URL:https://toy-hunter.nl/events/snuffelmarkt-gelredome-2/
END:VEVENT
END:VCALENDAR