BEGIN:VCALENDAR
VERSION:2.0
PRODID:-//eventon.com NONSGML v1.0//EN
CALSCALE:GREGORIAN
METHOD:PUBLISH
BEGIN:VEVENT
UID:69e75cd62564c
DTSTAMP:20260421T111742Z
DTSTART:20250510T070000Z
DTEND:20250510T140000Z
LOCATION:
SUMMARY:JAARMARKT s’Graveland
DESCRIPTION:JAARMARKT s’Graveland\nhttps://toy-hunter.nl/events/jaarmarkt
 -sgraveland/
URL:https://toy-hunter.nl/events/jaarmarkt-sgraveland/
END:VEVENT
END:VCALENDAR